BEGIN:VCALENDAR
VERSION:2.0
PRODID:-//Območna obrtno-podjetniška zbornica Domžale - ECPv6.15.20//NONSGML v1.0//EN
CALSCALE:GREGORIAN
METHOD:PUBLISH
X-ORIGINAL-URL:https://www.domzale-ooz.si
X-WR-CALDESC:Dogodki za Območna obrtno-podjetniška zbornica Domžale
REFRESH-INTERVAL;VALUE=DURATION:PT1H
X-Robots-Tag:noindex
X-PUBLISHED-TTL:PT1H
BEGIN:VTIMEZONE
TZID:Europe/Ljubljana
BEGIN:DAYLIGHT
TZOFFSETFROM:+0100
TZOFFSETTO:+0200
TZNAME:CEST
DTSTART:20250330T010000
END:DAYLIGHT
BEGIN:STANDARD
TZOFFSETFROM:+0200
TZOFFSETTO:+0100
TZNAME:CET
DTSTART:20251026T010000
END:STANDARD
BEGIN:DAYLIGHT
TZOFFSETFROM:+0100
TZOFFSETTO:+0200
TZNAME:CEST
DTSTART:20260329T010000
END:DAYLIGHT
BEGIN:STANDARD
TZOFFSETFROM:+0200
TZOFFSETTO:+0100
TZNAME:CET
DTSTART:20261025T010000
END:STANDARD
BEGIN:DAYLIGHT
TZOFFSETFROM:+0100
TZOFFSETTO:+0200
TZNAME:CEST
DTSTART:20270328T010000
END:DAYLIGHT
BEGIN:STANDARD
TZOFFSETFROM:+0200
TZOFFSETTO:+0100
TZNAME:CET
DTSTART:20271031T010000
END:STANDARD
END:VTIMEZONE
BEGIN:VEVENT
DTSTART;TZID=Europe/Ljubljana:20260512T170000
DTEND;TZID=Europe/Ljubljana:20260512T200000
DTSTAMP:20260425T164548
CREATED:20260420T220403Z
LAST-MODIFIED:20260424T082208Z
UID:10000738-1778605200-1778616000@www.domzale-ooz.si
SUMMARY:🔥 ŠTARTAJ DOMŽALE 2026: Imaš idejo ALI že produkt – pa ne veš\, kako do več prodaje?
DESCRIPTION:PRIJAVI SE\n					 \nIntenziven podjetniški program v 6 modulih\, kjer z AI in mentorji iz prakse razviješ idejo ali izboljšaš obstoječ produkt – s ciljem več prodaje. \nProgram združuje jasne koncepte in delo na konkretnih primerih. \nNajprej razumeš pristop\, nato vidiš izvedbo – in ga preneseš na svoj primer. \n					\n									REZERVIRAJ SVOJE MESTO\n					 \nMESTA SO OMEJENA \nZA KOGA JE ŠTARTAJ DOMŽALE \nSE PREPOZNAŠ? \nPotem si na pravem mestu\n  \nImaš idejo\, pa ne veš\, ali ima realen potencial na trgu. \n Ukvarjaš se z njo že mesece – brez jasnega odgovora. \n  \n  \n Imaš produkt\, ki se ne prodaja\, kot si pričakoval \n Ponudba je dobra a kupci ne vidijo vrednosti v tvojem produktu ali storitvi. \n  \n  \n Uporabljaš AI\, a ne dobiš konkretnih rezultatov \n Testiraš orodja\, zapravljaš čas\, denarja od tega še ni. \n  \n  \n Hočeš sistem\, ne predavanja \n Potrebuješ jasne korake ne splošnih nasvetov. \n  \n  \n Potem je ta program zate. \n  \nPO 6 MODULIH ODIDEŠ Z:\n\n Preverjeno idejo ali izboljšanim produktom\, ki ga trg dejansko želi\nNatančno določeno ciljno skupino in razumevanjem\, zakaj kupuje\nProdajno zgodbo in marketinškim temeljem\nAI orodji\, ki jih obvladaš in jih lahko uporabiš vsak dan\nKonkretnim pitchem in povratno informacijo mentorjev\nMožnostjo vstopa v inkubator z individualnim mentorstvom\n\nKAKO DELUJE PROGRAM \nHIBRIDNI PRISTOP\,\nki daje rezultate.\n🏛️\nDELAVNICE V ŽIVO\nKDAJ IN KJE: \n12.\, 14.\, 19.\, 21.\, 26. in 28. majod 17.00 do 20.00v živo na Obrtni zbornici Domžale \nVsak modul ima jasen cilj in konkreten rezultat. Fokus ni na poslušanju\, ampak na napredku. \n📩\nAI PODPORA PO E-POŠTI\nAI ni dodatek\, ampak rdeča nit programa. \nUporabljaš ga pri razumevanju kupcev\, razvoju ideje\, marketingu in prodaji. \nSprejemaš hitrejše in boljše odločitve. \nPROGRAM \n6 MODULOV.\n6 prebojnih korakov.\nVsak modul vsebuje intenzivno delo na primerih in dopolnilni AI  modul z  AI toolkitI  za implementacijo med srečanji. Celoten program z AI moduli za vsak posamezen modul\, tutoriali in mentoriranjem vodi MELLANIE GRUDNIIK – dolgoletna podjetniška mentorica\, predavateljica in AI strokovnjakinja za uporabo ai orodij v praksi. \n01\nTOREK\, 12. MAJ\nOD PROBLEMA DO REŠITVE\, KI SE PRODAJA\nDR. BLAŽ ZUPAN – podjetnik\, mentor in predavatelj – razvoj idej in trg \nNaučiš se prepoznati\, katere potrebe so dejansko pomembne\, in preveriti\, ali ima tvoja ideja realni tržni potencial. AI za analizo trga in preverjanje predpostavk. \nNa koncu imaš jasno definiran problem\, na katerem gradiš idejo. \nAI modul: od problema do rešitve z AI \nAI TOOLKIT \nOrodja za razvoj\, validacijo in testiranje ideje na trgu \n02\nČETRTEK\, 14. MAJ\nKDO JE TVOJ KUPEC – IN ZAKAJ KUPI\nDR. ROK STRITAR – podjetnik\, svetovalec in predavatelj – kupci in ponudba \nJasno določiš svojo ciljno skupino. Razumeš\, komu prodajaš\, kaj kupci potrebujejo in kako sprejemajo odločitve. S pomočjo AI segmentiraš in oblikuješ ponudbo z vrednostjo. \nNa koncu imaš jasno definiran problem\, na katerem gradiš idejo. \nAI modul: od kupca do prodaje z AI \nAI TOOLKIT \nOrodja za razumevanje kupcev\, oblikovanje ponudbe in določanje vrednosti \n03\nTOREK\, 19. MAJ\nPRODUKT\, KI GA TRG DEJANSKO ŽELI\nDR. ROK STRITAR – STROKOVNJAK ZA RAZVOJ PRODUKTOV \nPretvoriš idejo v konkretno rešitev. Oblikuješ produkt ali storitev\, pripravljaš prve verzije in testiraš odziv trga. AI pomaga pri hitrejšem razvoju in zmanjševanju tveganja. \nNa koncu imaš jasno definiran problem\, na katerem gradiš idejo. \nAI modul: od ideje do produkta\, ki ga trg želi z AI \nAI TOOLKIT \nOrodja za razvoj rešitve\, oblikovanje MVP in testiranje ideje \n04\nČETRTEK\, 21. MAJ\nZGODBA\, KI PRODAJA – IN KAKO JO ZGRADITI Z AI\nMAG. MATEJA BOLDIN ZEVNIK -marketinška strateginja – branding in marketing \nNaučiš se jasno predstaviti svojo vrednost\, oblikovati zgodbo in zgraditi temelje marketinga. AI pomaga pri pripravi vsebin in optimizacijo sporočil. \nNa koncu imaš jasno definiran problem\, na katerem gradiš idejo. \nAI modul: od zgodbe do marketinga\, ki prodaja z AI \nAI TOOLKIT \nOrodja za oblikovanje zgodbe\, vsebin in marketinga \n05\nTOREK\, 26. MAJ\nOD PREDSTAVITVE DO SKLENITVE POSLA\nENEJ GRADIŠEK – podjetnik in GenAI strokovnjak – razvoj produkta z AI \nSvojo idejo ali produkt pretvoriš v jasno in prepričljivo predstavitev. Naučiš se strukturirati  svojo predstavitev – pitch\, izpostaviti ključne prednosti in nagovoriti različne sogovornike. \nNa koncu imaš jasno definiran problem\, na katerem gradiš idejo. \nAI modul: od ideje do sklenitve posla z AI \nAI TOOLKIT \nOrodja za pripravo strukture\, sporočila in prepričljive predstavitve \n06\nTOREK\, 28. MAJ\nPREDSTAVI SVOJO IDEJO IN ZMAGAJ\nPRED ŽIRIJO  \nProgram zaključiš s predstavitvijo svoje ideje. Dobiš konkretne povratne informacije in jasno sliko\, kako naprej – v smeri prodaje ali nadaljnega razvoja. Najboljši nastopi osvajajo vstop v inkubator. \nNa koncu imaš jasno definiran problem\, na katerem gradiš idejo. \nAI modul: od predstavitve do sklenitve posla z AI \nAI TOOLKIT \nAI orodja za prepričljivo predstavitev in sklenitev posla \nVRHUNSKI MENTORJI \nPREDAVANJE IN DELO NA KONKRETNIH PRIMERIH\nKonkretni nasveti\, konkretni primeri\, velik napredek\n																														 \nDR. BLAŽ ZUPAN\nDocent na Ekonomski fakulteti UL\, podjetniški trener\, serijski podjetnik\, mentor in investitor. \nUstanovitelj in solastnik več podjetij\, z izkušnjami iz 200+ delavnic; področja dela vključujejo inovativnost\, analizo trga\, razvoj poslovnih priložnosti\, prodajo ter uporabo design thinkinga in lean metod. \n																														 \nDR. ROK STRITAR\nPredavatelj\, mentor in podjetnik\, z bogatimi izkušnjami na področju zgodnjega podjetništva\, rasti podjetij ter razvoja novih izdelkov in storitev. \nSodeloval pri vpeljavi design thinking pristopa v Sloveniji in aktivno svetuje podjetjem pri razvoju ponudbe in poslovnih modelov. \n																														 \nMAG. MATEJA BOLDIN ZEVNIK\nMarketinška strateginja\, mentorica in predavateljica z bogatimi izkušnjami na področju razvoja blagovnih znamk in lansiranja produktov. \nPovezuje poslovne cilje s potrebami trga ter ustvarja učinkovite komunikacije in strategije. \n																														 \nENEJ GRADIŠEK\nGenAI strokovnjak\, podjetnik in facilitator z več kot 10 leti izkušenj. \nMentoriral več kot 250 ekip; specializiran za razvoj poslovnih modelov\, strategij in procesov z uporabo design thinkinga\, lean startupa in agilnih metod. \n																														 \nMELLANIE GRUDNIIK\nPodjetniška svetovalka\, predavateljica\, mentorica in vodja startup inkubatorja. \nUkvarja se z razvojem idej\, poslovnih modelov\, strategij in procesov ter uporabo AI orodij v poslovnih procesih\, pri čemer združuje design thinking\, lean in agilne pristope. \nNAGRADE \nNASTOPI PRED ŽIRIJO.\nOsvoji inkubator.\nNajboljše predstavitve na finalnem večeru se uvrstijo v inkubator z individualnim mentorstvom za nadaljnji razvoj. \n🥇\n1. MESTO\n30\nUR INDIVIDUALNEGA MENTORSTVA \nMesto v inkubatorju z intenzivnim 1-na-1 razvojem tvoje ideje \n🥈\n2. MESTO\n15\nUR INDIVIDUALNEGA MENTORSTVA \nMesto v inkubatorju z intenzivnim 1-na-1 razvojem tvoje ideje \n🥉\n3. MESTO\n7\nUR INDIVIDUALNEGA MENTORSTVA \nMesto v inkubatorju z intenzivnim 1-na-1 razvojem tvoje ideje \nŠTARTAJ\nZdaj\n					\n									PRIJAVI SE\n					 \nPROGRAM POTEKA POD POKROVITELJSTVOM OBČINE DOMŽALE – ORGANIZATOR: OOZ DOMŽALE \n  \n 
URL:https://www.domzale-ooz.si/dogodek/%f0%9f%94%a5-startaj-domzale-2026-imas-idejo-ali-ze-produkt-pa-ne-ves-kako-do-vec-prodaje/
LOCATION:Obrtna zbornica Domžale\, Šaranovičeva 21c\, Vir Šaranovičeva 21a\, Vir Domžale 1230 Slovenija\, Domžale\, Slovenija
ATTACH;FMTTYPE=image/png:https://www.domzale-ooz.si/wp-content/uploads/2026/04/Startaj-Domzale-2026-WP-naslovnica.png
ORGANIZER;CN="Obrtna zbornica Dom%C5%BEale":MAILTO:info@domzale-ooz.si
END:VEVENT
BEGIN:VEVENT
DTSTART;TZID=Europe/Ljubljana:20260513T083000
DTEND;TZID=Europe/Ljubljana:20260513T113000
DTSTAMP:20260425T164548
CREATED:20260420T180438Z
LAST-MODIFIED:20260423T111650Z
UID:10000737-1778661000-1778671800@www.domzale-ooz.si
SUMMARY:Trajnost kot poslovna priložnost
DESCRIPTION:Trajnost kot poslovna priložnost: Zahteve kupcev\, bank in razpisov v praksi\n\nOnline usposabljanje | 13. maj 2026 | 8.30–11.30| Zoom\n					\n									PRIJAVI SE\n					 \nVečina podjetij teh podatkov danes še ne spremlja. Kupci\, banke in razpisi pa jih že začenjajo zahtevati. \n👉 To se ne bo ustavilo – samo še pospešilo se bo. \nVedno več podjetij se že srečuje s situacijami\, ko: \n\njih kupci sprašujejo po dodatnih podatkih\,\nbanke zahtevajo več informacij pri financiranju\,\nrazpisi vključujejo trajnostne kriterije.\n\nTe zahteve se bodo v prihodnje le še stopnjevale. \nVprašanje zato ni več\, ali se to tiče tudi vašega podjetja\, ampak kdaj boste morali začeti. \nNa tem usposabljanju boste dobili jasen odgovor: katere podatke boste potrebovali\, kaj že imate in kako začeti – brez zapletov. \nVečina podjetij zato danes odlaša – ne zato\, ker ne bi želela\, ampak ker ne vedo\, kje začeti.  \nPrav zato smo za vas v okviru SPOT svetovanje Osrednjeslovenske regije brezplačno online usposabljanje: \nTrajnost kot poslovna priložnost: Zahteve kupcev\, bank in razpisov v praksi\n Kdaj:  v  sredo\, 13. maja 2026 od 8.30 do 11.30 ure   \n Kje: online v zoom okolju\, ki se ga boste lahko udeležili vsi\,  ki se boste prijavili na spodnjo online prijavo. \n⚠️ Kje je danes največji problem podjetij\nPodjetja niso nepripravljena zato\, ker ne bi želela slediti spremembam. \nTežava je\, da: \nne vedo\, kateri podatki so sploh pomembni\,ne vedo\, kaj trg dejansko pričakuje\,nimajo jasne strukture\, kako začeti. \nVelikokrat podatki že obstajajo\, vendar:👉 niso zbrani\,👉 niso povezani\,👉 se ne uporabljajo za odločanje. \nPosledica: \nslabša pogajalska izhodišča\,več negotovosti\,zamujene poslovne priložnosti. \n✅ Usposabljanje\, ki pokaže\, kako začeti\nTo ni teoretično predavanje. \nPoudarek je na praktičnih korakih\, ki jih lahko naredite v svojem podjetju: \n\nkako iz obstoječih informacij zgraditi osnovo\,\nkako prepoznati ključne podatke\,\nkako postaviti prve korake trajnostnega poslovanja\,\nkako se pripraviti na zahteve trga.\n\n👉 Cilj je\, da po usposabljanju točno veste\, kaj narediti. \n🎯 Kaj boste imeli po usposabljanju\nPo usposabljanju boste: \n\nrazumeli\, kaj se od podjetij dejansko pričakuje\,\nvedeli\, kateri podatki so za vas relevantni\,\nimeli pregled\, katere podatke že imate\,\nvedeli\, katere podatke začeti spremljati\,\nznali postaviti osnovo za trajnostno strategijo\,\nrazumeli\, kako vse to povezati s poslovnimi odločitvami.\n\n👉 Ne boste več v fazi “ne vem\, kje začeti”. \n💡 Zakaj to postaja pomembno\nPodjetja\, ki pravočasno razumejo te zahteve: \n\nlažje sodelujejo z večjimi partnerji\,\nhitreje pridobijo financiranje\,\nizboljšajo svojo kredibilnost\,\nsprejemajo bolj informirane poslovne odločitve.\n\nNe gre več samo za poročanje. \n👉 Gre za razumevanje lastnega poslovanja. \n🚀 Zakaj je to usposabljanje drugačno\n\ntemelji na konkretnih primerih iz prakse\,\nvključuje realne podatke podjetij\,\npovezuje regulativo (CSRD\, EU taksonomija) s prakso\,\nfokus je na uporabnosti\, ne teoriji.\n\n👉 Ne boste poslušali\, kaj ESG je\,👉 ampak kako ga uporabiti v praksi. \n👥 Komu je usposabljanje namenjeno\n\ndirektorjem in vodstvom podjetij\,\npodjetnikom\,\nosebam\, ki skrbijo za razvoj ali strategijo\,\nvsem\, ki se srečujejo z zahtevami partnerjev ali trga.\n\nPrimerno tudi za podjetja\, ki še niso začela. \n\n📚 Vsebina usposabljanja\nNa usposabljanju boste spoznali: \n\ntrajnostno poslovanje in poročanje v praksi\,\nkaj trg danes dejansko pričakuje\,\nključne okoljske\, družbene in upravljavske (ESG) teme\,\npredstavitev VSME standardov s konkretnimi primeri\,\nkatere podatke podjetja že imajo\,\nkatere podatke je smiselno začeti spremljati\,\nkorake trajnostne strategije\,\nelemente akcijskega načrta\,\nposlovne koristi trajnostnega pristopa\,\nmožnosti sofinanciranja (vavčerji)\,\nsamooceno trajnostne usmerjenosti podjetja.\n\n\n \n															\n																														 \nZ nami bo mag. znanosti Tina Štrukelj\, direktorica  Infinite Pure Solutions d.o.o. Specializirano svetovalno podjetje na področju trajnostnosti (ESG)\, vzpostavitve trajnostnega poročanja (ESRS\, VSME)\, upravljanja ESG podatkov\, izračunov ogljičnega odtisa (LCA\, GHG Protocol). \nSodelujejo z naročniki iz različnih industrij in velikostnih razredov ter povezujejo regulatorno znanje s praktično implementacijo. \nNjihove rešitve temeljijo na konkretnih projektih in realnih izkušnjah iz prakse\, zato udeleženci dobijo uporabna znanja\, ki jih lahko prenesejo v svoje poslovanje. \nPrimer iz prakse\nPodjetje\, ki je začelo spremljati ESG podatke: \n\nje lažje pridobilo financiranje\nizboljšalo pogoje sodelovanja z večjim partnerjem\n\n👉 razlika ni bila v velikosti podjetja\,👉 ampak v tem\, da je imelo podatke. \n																														 \nNe čakajte\, da vas zahteve prehitijo\nČe želite razumeti\, kateri podatki bodo kmalu ključni za vaše poslovanje in kako se pripraviti pravočasno\, se prijavite danes. \nUdeležba je brezplačna. Prijava je obvezna. Število mest je omejeno. \n					\n									PRIJAVI SE  ZDAJ\n					 \nProjekt je sofinanciran s pomočjo Evropskega sklada za regionalni razvoj\, Ministrstva za gospodarstvo\, turizem in šport ter SPIRIT Slovenija\, javna agencija.
URL:https://www.domzale-ooz.si/dogodek/trajnost-kot-poslovna-priloznost/
LOCATION:online v zoom okolju
ATTACH;FMTTYPE=image/jpeg:https://www.domzale-ooz.si/wp-content/uploads/2026/04/SPOT-usposabljanjeESG-POROCANJE-4-2.jpeg
ORGANIZER;CN="Obrtna zbornica Dom%C5%BEale":MAILTO:info@domzale-ooz.si
END:VEVENT
END:VCALENDAR