BEGIN:VCALENDAR
VERSION:2.0
PRODID:-//Območna obrtno-podjetniška zbornica Domžale - ECPv6.15.20//NONSGML v1.0//EN
CALSCALE:GREGORIAN
METHOD:PUBLISH
X-ORIGINAL-URL:https://www.domzale-ooz.si
X-WR-CALDESC:Dogodki za Območna obrtno-podjetniška zbornica Domžale
REFRESH-INTERVAL;VALUE=DURATION:PT1H
X-Robots-Tag:noindex
X-PUBLISHED-TTL:PT1H
BEGIN:VTIMEZONE
TZID:Europe/Ljubljana
BEGIN:DAYLIGHT
TZOFFSETFROM:+0100
TZOFFSETTO:+0200
TZNAME:CEST
DTSTART:20250330T010000
END:DAYLIGHT
BEGIN:STANDARD
TZOFFSETFROM:+0200
TZOFFSETTO:+0100
TZNAME:CET
DTSTART:20251026T010000
END:STANDARD
BEGIN:DAYLIGHT
TZOFFSETFROM:+0100
TZOFFSETTO:+0200
TZNAME:CEST
DTSTART:20260329T010000
END:DAYLIGHT
BEGIN:STANDARD
TZOFFSETFROM:+0200
TZOFFSETTO:+0100
TZNAME:CET
DTSTART:20261025T010000
END:STANDARD
BEGIN:DAYLIGHT
TZOFFSETFROM:+0100
TZOFFSETTO:+0200
TZNAME:CEST
DTSTART:20270328T010000
END:DAYLIGHT
BEGIN:STANDARD
TZOFFSETFROM:+0200
TZOFFSETTO:+0100
TZNAME:CET
DTSTART:20271031T010000
END:STANDARD
END:VTIMEZONE
BEGIN:VEVENT
DTSTART;TZID=Europe/Ljubljana:20260423T083000
DTEND;TZID=Europe/Ljubljana:20260423T113000
DTSTAMP:20260421T104418
CREATED:20260408T220337Z
LAST-MODIFIED:20260408T234053Z
UID:10000736-1776933000-1776943800@www.domzale-ooz.si
SUMMARY:Digitalizacija v praksi: dostopne rešitve za večjo učinkovitost podjetja
DESCRIPTION:Cilj vsakega podjetja sta zagotovo dolgoročno preživetje in rast\, ki ju lahko dosežejo tudi in predvsem z digitalizacijo poslovnih procesov. In čeprav se vpeljava digitalizacije (in kasneje tudi digitalne preobrazbe) morda na prvi pogled res zdi kot dodaten strošek\, ki bo podjetju le izstavil račun\, pa na dolgi rok temu zagotovo ni tako. \nDigitalna preobrazba je namreč tek na dolge proge\, ki podjetje dvigne iz sivega povprečja\, saj mu prinese optimizacijo celotnega poslovanja\, kar nenazadnje pomeni nižje stroške\, višjo učinkovitost\, večjo zvestobo kupcev\, zmanjšanje tveganj in napak\, višjo produktivnost zaposlenih\, boljšo uporabniško izkušnjo in še mnogo več. \nPodjetja danes vse pogosteje razmišljajo o digitalizaciji poslovanja\, vendar se pri tem hitro znajdejo pred konkretnimi vprašanji: kje začeti\, koliko vložiti in predvsem – kako zagotoviti\, da bodo uvedene rešitve dejansko prinesle konkretne rezultate. \nČe je bilo še pred nekaj leti za digitalizacijo potrebno odšteti več deset tisoč evrov\, so danes na voljo rešitve\, ki omogočajo prve korake že z bistveno nižjimi vložki – tudi v obliki dostopnih mesečnih orodij. Kljub temu pa se številna podjetja soočajo z izzivom\, kako izbrati prave rešitve in jih učinkovito vključiti v svoje poslovanje. \n👉 Ključno vprašanje danes ni več\, ali digitalizirati\, temveč kako se tega lotiti na način\, ki se podjetju dejansko izplača. \nUsposabljanje je zasnovano praktično in usmerjeno v takojšnjo uporabo – z jasnimi koraki\, realnimi primeri in pristopom\, ki ga lahko prilagodite svojemu podjetju. \nPrav zato smo za vas v okviru SPOT svetovanje Osrednjeslovenske regije brezplačno online usposabljanje: \nDigitalizacija  v praksi: dostopne rešitve za večjo učinkovitost podjetja\n Kdaj:  v  četrtek\, 23. aprila 2026 od 8.30 do 11.30 ure   \n Kje: online v zoom okolju\, ki se ga boste lahko udeležili vsi\,  ki se boste prijavili na spodnjo online prijavo. \nČe je v preteklosti veljalo\, da se digitalizacije lahko lotijo samo velika podjetja\, saj srednja in majhna podjetja nimajo ne sredstev in ne kadra\, potem sedaj temu ni več tako. \nVabljeni na brezplačno online usposabljanje\, kjer boste iz prve roke lahko videli\, kateri so pozitivni učinki digitalizacije poslovnih procesov in kako se tega lotiti. \nZakaj se udeležiti\nKer razlika med podjetji danes ni več v tem\, kdo dela več\, temveč kdo dela bolj pametno in bolj sistematično. \n👉 Digitalizacija vam lahko pomaga: \n\nzmanjšati stroške\npovečati produktivnost\nizboljšati pregled nad poslovanjem\nsprejemati boljše odločitve\n\nKomu je usposabljanje namenjeno\n\nmikro\, malim in srednjim podjetjem\npodjetnikom in podjetnicam\nvsem\, ki želijo več učinkovitosti\, manj slepe improvizacije in boljši pregled nad poslovanjem in večjo odpornost na spremembe\n\n\nPRIJAVI SE\n \nVsebina: \nNa brezplačnem usposabljanju boste spoznali\, zakaj je digitalizacija poslovnih procesov nujna za dolgoročno preživetje in rast.  \nUdeleženci boste: \n✔ razumeli\, kje začeti z digitalizacijo in kako se izogniti začetnim napakam✔ dobili jasen pregled\, kaj se splača digitalizirati in kaj ne✔ spoznali\, kako lahko tudi z manjšimi vložki (npr. mesečna orodja) dosežete konkretne učinke✔ znali izračunati realen strošek svojih storitev ali produktov✔ spoznali\, kako meriti učinke digitalizacije✔ dobili konkreten okvir za nadaljnji razvoj in izboljšave \n🔎 Vsebina usposabljanja\n➡ Mali koraki\, hitri rezultati\, postopno napredovanjeKako začeti brez velikih investicij in z jasnim ciljem \n➡ Kakšno znanje\, oprema in infrastruktura so potrebniKaj dejansko potrebujete (in česa ne)\, da digitalizacija deluje \n➡ Izzivi po prvih korakihNajpogostejše ovire in kako jih učinkovito preseči \n➡ Izračun točnega stroška proizvoda ali storitveKako vzpostaviti pregled nad stroški in sprejemati boljše odločitve \n➡ Meritve rezultatovKako spremljati učinke in vedeti\, kaj deluje \n➡ Kontinuirano izboljševanjeKako vzpostaviti sistem\, ki dolgoročno prinaša rezultate \n \nZ nami bo Robert Orehek\, direktor razvoja poslovanja v podjetju TOM PIT d.o.o.\, ki  so edini ponudnik na tržišču\, ki z lastno tehnologijo\, celotno paleto digitalnih vsebin\, podatkovnim centrom\, celovitim naborom digitalnih storitev in outsourcingom ekspertnih znanj zagotavlja digitalno preobrazbo kot celovito storitev. \nPri Tom PIT gledajo na digitalno preobrazbo celostno. To pomeni\, da se ukvarjajo s tehnologijo in digitalnimi vsebinami\, imajo svoj podatkovni center in nudijo celotno paleto ekspertnih znanj in digitalnih storitev. Vse to njihovim strankam zagotavlja\, da z enim samim partnerjem obravnavajo digitalno preobrazbo skozi celoten življenjski cikel\, od zasnove\, implementacije\, rabe do vzdrževanja. \n \nŽe  danes lahko začnete digitalizacijo tudi z manjšimi mesečnimi vložki. Ne zamudite priložnosti – prijavite se. \n\nPRIJAVI SE\n \nProjekt je sofinanciran s pomočjo Evropskega sklada za regionalni razvoj\, Ministrstva za gospodarstvo\, turizem in šport ter SPIRIT Slovenija\, javna agencija.
URL:https://www.domzale-ooz.si/dogodek/digitalizacija-v-praksi-dostopne-resitve-za-vecjo-ucinkovitost-podjetja/
LOCATION:online v zoom okolju
ATTACH;FMTTYPE=image/jpeg:https://www.domzale-ooz.si/wp-content/uploads/2026/04/Digitalizacija-v-praksi.jpg
ORGANIZER;CN="Obrtna zbornica Dom%C5%BEale":MAILTO:info@domzale-ooz.si
END:VEVENT
BEGIN:VEVENT
DTSTART;TZID=Europe/Ljubljana:20260513T083000
DTEND;TZID=Europe/Ljubljana:20260513T113000
DTSTAMP:20260421T104418
CREATED:20260420T180438Z
LAST-MODIFIED:20260420T202019Z
UID:10000737-1778661000-1778671800@www.domzale-ooz.si
SUMMARY:Kako začeti s trajnostnim poslovanjem (ESG) brez zapletov
DESCRIPTION:Podatki\, ki jih bodo od vašega podjetja zahtevali kupci\, banke in razpisi: Kako začeti s trajnostnim poslovanjem (ESG) brez zapletov\nOnline usposabljanje | 13. maj 2026 | 8.30–11.30 (Zoom)\nVečina podjetij teh podatkov danes še ne spremlja. Kupci\, banke in razpisi pa jih že začenjajo zahtevati. \n👉 To se ne bo ustavilo – samo še pospešilo se bo. \nVedno več podjetij se že srečuje s situacijami\, ko: \n\njih kupci sprašujejo po dodatnih podatkih\,\nbanke zahtevajo več informacij pri financiranju\,\nrazpisi vključujejo trajnostne kriterije.\n\nTe zahteve se bodo v prihodnje le še stopnjevale. \nVprašanje zato ni več\, ali se to tiče tudi vašega podjetja\, ampak kdaj boste morali začeti. \nNa tem usposabljanju boste dobili jasen odgovor: katere podatke boste potrebovali\, kaj že imate in kako začeti – brez zapletov. \n					\n									REZERVIRAJ SVOJE MESTO\n					 \nVečina podjetij zato danes odlaša – ne zato\, ker ne bi želela\, ampak ker ne vedo\, kje začeti.  \nPrav zato smo za vas v okviru SPOT svetovanje Osrednjeslovenske regije brezplačno online usposabljanje: \nKako začeti s trajnostnim poslovanjem (ESG) brez zapletov\n Kdaj:  v  sredo\, 13. maja 2026 od 8.30 do 11.30 ure   \n Kje: online v zoom okolju\, ki se ga boste lahko udeležili vsi\,  ki se boste prijavili na spodnjo online prijavo. \n⚠️ Kje je danes največji problem podjetij\nPodjetja niso nepripravljena zato\, ker ne bi želela slediti spremembam. \nTežava je\, da: \nne vedo\, kateri podatki so sploh pomembni\,ne vedo\, kaj trg dejansko pričakuje\,nimajo jasne strukture\, kako začeti. \nVelikokrat podatki že obstajajo\, vendar:👉 niso zbrani\,👉 niso povezani\,👉 se ne uporabljajo za odločanje. \nPosledica: \nslabša pogajalska izhodišča\,več negotovosti\,zamujene poslovne priložnosti. \n✅ Usposabljanje\, ki pokaže\, kako začeti\nTo ni teoretično predavanje. \nPoudarek je na praktičnih korakih\, ki jih lahko naredite v svojem podjetju: \n\nkako iz obstoječih informacij zgraditi osnovo\,\nkako prepoznati ključne podatke\,\nkako postaviti prve korake trajnostnega poslovanja\,\nkako se pripraviti na zahteve trga.\n\n👉 Cilj je\, da po usposabljanju točno veste\, kaj narediti. \n					\n									PRIJAVI SE NA USPOSABLJANJE\n					 \n🎯 Kaj boste imeli po usposabljanju\nPo usposabljanju boste: \n\nrazumeli\, kaj se od podjetij dejansko pričakuje\,\nvedeli\, kateri podatki so za vas relevantni\,\nimeli pregled\, katere podatke že imate\,\nvedeli\, katere podatke začeti spremljati\,\nznali postaviti osnovo za trajnostno strategijo\,\nrazumeli\, kako vse to povezati s poslovnimi odločitvami.\n\n👉 Ne boste več v fazi “ne vem\, kje začeti”. \n💡 Zakaj to postaja pomembno\nPodjetja\, ki pravočasno razumejo te zahteve: \n\nlažje sodelujejo z večjimi partnerji\,\nhitreje pridobijo financiranje\,\nizboljšajo svojo kredibilnost\,\nsprejemajo bolj informirane poslovne odločitve.\n\nNe gre več samo za poročanje. \n👉 Gre za razumevanje lastnega poslovanja. \n🚀 Zakaj je to usposabljanje drugačno\n\ntemelji na konkretnih primerih iz prakse\,\nvključuje realne podatke podjetij\,\npovezuje regulativo (CSRD\, EU taksonomija) s prakso\,\nfokus je na uporabnosti\, ne teoriji.\n\n👉 Ne boste poslušali\, kaj ESG je\,👉 ampak kako ga uporabiti v praksi. \n👥 Komu je usposabljanje namenjeno\n\ndirektorjem in vodstvom podjetij\,\npodjetnikom\,\nosebam\, ki skrbijo za razvoj ali strategijo\,\nvsem\, ki se srečujejo z zahtevami partnerjev ali trga.\n\nPrimerno tudi za podjetja\, ki še niso začela. \n					\n									PRIJAVI SE NA USPOSABLJANJE\n					 \n\n📚 Vsebina usposabljanja\nNa usposabljanju boste spoznali: \n\ntrajnostno poslovanje in poročanje v praksi\,\nkaj trg danes dejansko pričakuje\,\nključne okoljske\, družbene in upravljavske (ESG) teme\,\npredstavitev VSME standardov s konkretnimi primeri\,\nkatere podatke podjetja že imajo\,\nkatere podatke je smiselno začeti spremljati\,\nkorake trajnostne strategije\,\nelemente akcijskega načrta\,\nposlovne koristi trajnostnega pristopa\,\nmožnosti sofinanciranja (vavčerji)\,\nsamooceno trajnostne usmerjenosti podjetja.\n\n\n \n															\n																														 \nZ nami bo mag. znanosti Tina Štrukelj\, direktorica  Infinite Pure Solutions d.o.o. Specializirano svetovalno podjetje na področju trajnostnosti (ESG)\, vzpostavitve trajnostnega poročanja (ESRS\, VSME)\, upravljanja ESG podatkov\, izračunov ogljičnega odtisa (LCA\, GHG Protocol). \nSodelujejo z naročniki iz različnih industrij in velikostnih razredov ter povezujejo regulatorno znanje s praktično implementacijo. \nNjihove rešitve temeljijo na konkretnih projektih in realnih izkušnjah iz prakse\, zato udeleženci dobijo uporabna znanja\, ki jih lahko prenesejo v svoje poslovanje. \nPrimer iz prakse\nPodjetje\, ki je začelo spremljati ESG podatke: \n\nje lažje pridobilo financiranje\nizboljšalo pogoje sodelovanja z večjim partnerjem\n\n👉 razlika ni bila v velikosti podjetja\,👉 ampak v tem\, da je imelo podatke. \n																														 \nNe čakajte\, da vas zahteve prehitijo\nČe želite razumeti\, kateri podatki bodo kmalu ključni za vaše poslovanje in kako se pripraviti pravočasno\, se prijavite danes. \nUdeležba je brezplačna. Prijava je obvezna. Število mest je omejeno. \n					\n									REZERVIRAJ SVOJE MESTO ZDAJ\n					 \nProjekt je sofinanciran s pomočjo Evropskega sklada za regionalni razvoj\, Ministrstva za gospodarstvo\, turizem in šport ter SPIRIT Slovenija\, javna agencija.
URL:https://www.domzale-ooz.si/dogodek/kako-zaceti-s-trajnostnim-poslovanjem-esg-brez-zapletov/
LOCATION:online v zoom okolju
ATTACH;FMTTYPE=image/jpeg:https://www.domzale-ooz.si/wp-content/uploads/2026/04/SPOT-usposabljanjeESG-POROCANJE-4.jpeg
ORGANIZER;CN="Obrtna zbornica Dom%C5%BEale":MAILTO:info@domzale-ooz.si
END:VEVENT
END:VCALENDAR